BEGIN:VCALENDAR
VERSION:2.0
PRODID:-//Franchise Academy Indonesia - ECPv6.15.18//NONSGML v1.0//EN
CALSCALE:GREGORIAN
METHOD:PUBLISH
X-ORIGINAL-URL:https://franchiseacademyindonesia.com
X-WR-CALDESC:Events for Franchise Academy Indonesia
REFRESH-INTERVAL;VALUE=DURATION:PT1H
X-Robots-Tag:noindex
X-PUBLISHED-TTL:PT1H
BEGIN:VTIMEZONE
TZID:Asia/Krasnoyarsk
BEGIN:STANDARD
TZOFFSETFROM:+0700
TZOFFSETTO:+0700
TZNAME:+07
DTSTART:20160101T000000
END:STANDARD
END:VTIMEZONE
BEGIN:VEVENT
DTSTART;TZID=Asia/Krasnoyarsk:20191030T080000
DTEND;TZID=Asia/Krasnoyarsk:20191031T170000
DTSTAMP:20260422T025925
CREATED:20180823T075227Z
LAST-MODIFIED:20191001T095003Z
UID:1910-1572422400-1572541200@franchiseacademyindonesia.com
SUMMARY:Franchise Workshop
DESCRIPTION:Berikut ini kami informasikan untuk  program 2 Days Franchise Workshop kami ” How To Franchise Your Business” pada tanggal  30-31 Oktober 2019  bertempat di Wisma Iskandarsyah Blok A10 \,Jl.Iskandarsyah Raya Jakarta Selatan.\n \nMateri Pelatihan :\n\n\nMengenal Franchising dan Perbedaanya dengan Licensing\nMembentuk Standar Bisnis yang layak difranchisekan\nMembentuk Organisasi Franchisor yang tangguh\nMemasarkan Franchise dan Merekrut Franchisee\nMengkaji Kelayakan bisnis Franchise \nMenghitung dan Menentukan Harga Franchise Fee dan Royalti Fee\nMenyusun Konsep Perjanjian Franchise yang benar dan sesuai peraturan Pemerintah\n\n\n \nUntuk Info pendaftaran silakan hubungi  kontak kami  ( Taufik ) 087883188897\n \n 
URL:https://franchiseacademyindonesia.com/event/franchise-workshop-2/
CATEGORIES:Red Module
END:VEVENT
BEGIN:VEVENT
DTSTART;TZID=Asia/Krasnoyarsk:20191021T140000
DTEND;TZID=Asia/Krasnoyarsk:20191021T160000
DTSTAMP:20260422T025925
CREATED:20171116T042016Z
LAST-MODIFIED:20191001T094151Z
UID:1894-1571666400-1571673600@franchiseacademyindonesia.com
SUMMARY:Menyusun Konsep Perjanjian
DESCRIPTION:Topik kelas Off-line Red Module:                                                                                                        \nMembahas proses  MENAWARKAN PAKET BISNIS FRANCHISE  dengan topik \nMenyusun Konsep Perjanjian \n\n\nModul ini membahas hal hal penting yang perlu disisipkan dalam perjanjian franchise guna melindungi bisnis yang di franchisekan dan membuat franchisee paham \n\n\n  \nBiaya: Rp 350.000\,- untuk satu topik.
URL:https://franchiseacademyindonesia.com/event/menyusun-konsep-perjanjian-6/
LOCATION:Franchise Academy Indonesia\, Wisma Iskandarsyah Blok A.10\, Jl. Iskandarsyah Raya Kav. 12-14\, Jakarta \, Jakarta Selatan
CATEGORIES:Red Module
ORGANIZER;CN="Taufik Hidayat":MAILTO:programfranchiseacademy@gmail.com
END:VEVENT
BEGIN:VEVENT
DTSTART;TZID=Asia/Krasnoyarsk:20191014T100000
DTEND;TZID=Asia/Krasnoyarsk:20191014T120000
DTSTAMP:20260422T025925
CREATED:20171116T041817Z
LAST-MODIFIED:20191001T093638Z
UID:1892-1571047200-1571054400@franchiseacademyindonesia.com
SUMMARY:Melakukan Promosi Penawaran Franchise Yang Efektif
DESCRIPTION:Topik kelas Off-line Red Module:                                                                                                        \nMembahas proses  MENAWARKAN PAKET BISNIS FRANCHISE  dengan topik \nMelakukan Promosi Penawaran Franchise Yang Efektif \n\n\nModul ini merinci langkah langkah apa saja yang diperlukan guna mendapatkan franchisee yang diidamkan \n\n\n  \nBiaya: Rp 350.000\,- untuk satu topik.
URL:https://franchiseacademyindonesia.com/event/melakukan-promosi-penawaran-franchise-yang-efektif-6/
LOCATION:Franchise Academy Indonesia\, Wisma Iskandarsyah Blok A.10\, Jl. Iskandarsyah Raya Kav. 12-14\, Jakarta \, Jakarta Selatan
CATEGORIES:Red Module
ORGANIZER;CN="Taufik Hidayat":MAILTO:programfranchiseacademy@gmail.com
END:VEVENT
BEGIN:VEVENT
DTSTART;TZID=Asia/Krasnoyarsk:20181203T140000
DTEND;TZID=Asia/Krasnoyarsk:20181203T160000
DTSTAMP:20260422T025925
CREATED:20170413T042003Z
LAST-MODIFIED:20181129T105153Z
UID:1727-1543845600-1543852800@franchiseacademyindonesia.com
SUMMARY:Melakukan Promosi Penawaran Franchise Yang Efektif
DESCRIPTION:Topik kelas Off-line Red Module:                                                                                                        \nMembahas proses  MENAWARKAN PAKET BISNIS FRANCHISE  dengan topik \nMelakukan Promosi Penawaran Franchise Yang Efektif \n\n\nModul ini merinci langkah langkah apa saja yang diperlukan guna mendapatkan franchisee yang diidamkan \n\n\n  \nBiaya: Rp 350.000\,- untuk satu topik.
URL:https://franchiseacademyindonesia.com/event/1727/
LOCATION:Franchise Academy Indonesia\, Wisma Iskandarsyah Blok A.10\, Jl. Iskandarsyah Raya Kav. 12-14\, Jakarta \, Jakarta Selatan
CATEGORIES:Red Module
ORGANIZER;CN="Taufik Hidayat":MAILTO:programfranchiseacademy@gmail.com
END:VEVENT
BEGIN:VEVENT
DTSTART;TZID=Asia/Krasnoyarsk:20171115T140000
DTEND;TZID=Asia/Krasnoyarsk:20171115T160000
DTSTAMP:20260422T025925
CREATED:20171116T040049Z
LAST-MODIFIED:20171116T040049Z
UID:1876-1510754400-1510761600@franchiseacademyindonesia.com
SUMMARY:Menyusun Konsep Perjanjian
DESCRIPTION:Topik kelas Off-line Red Module:                                                                                                        \nMembahas proses  MENAWARKAN PAKET BISNIS FRANCHISE  dengan topik \nMenyusun Konsep Perjanjian \n\n\nModul ini membahas hal hal penting yang perlu disisipkan dalam perjanjian franchise guna melindungi bisnis yang di franchisekan dan membuat franchisee paham \n\n\n  \nBiaya: Rp 350.000\,- untuk satu topik.
URL:https://franchiseacademyindonesia.com/event/menyusun-konsep-perjanjian-5/
LOCATION:Franchise Academy Indonesia\, Wisma Iskandarsyah Blok A.10\, Jl. Iskandarsyah Raya Kav. 12-14\, Jakarta \, Jakarta Selatan
CATEGORIES:Red Module
ORGANIZER;CN="Taufik Hidayat":MAILTO:programfranchiseacademy@gmail.com
END:VEVENT
BEGIN:VEVENT
DTSTART;TZID=Asia/Krasnoyarsk:20171115T100000
DTEND;TZID=Asia/Krasnoyarsk:20171115T120000
DTSTAMP:20260422T025925
CREATED:20171116T035905Z
LAST-MODIFIED:20171116T035905Z
UID:1874-1510740000-1510747200@franchiseacademyindonesia.com
SUMMARY:Melakukan Promosi Penawaran Franchise Yang Efektif
DESCRIPTION:Topik kelas Off-line Red Module:                                                                                                        \nMembahas proses  MENAWARKAN PAKET BISNIS FRANCHISE  dengan topik \nMelakukan Promosi Penawaran Franchise Yang Efektif \n\n\nModul ini merinci langkah langkah apa saja yang diperlukan guna mendapatkan franchisee yang diidamkan \n\n\n  \nBiaya: Rp 350.000\,- untuk satu topik.
URL:https://franchiseacademyindonesia.com/event/melakukan-promosi-penawaran-franchise-yang-efektif-5/
LOCATION:Franchise Academy Indonesia\, Wisma Iskandarsyah Blok A.10\, Jl. Iskandarsyah Raya Kav. 12-14\, Jakarta \, Jakarta Selatan
CATEGORIES:Red Module
ORGANIZER;CN="Taufik Hidayat":MAILTO:programfranchiseacademy@gmail.com
END:VEVENT
BEGIN:VEVENT
DTSTART;TZID=Asia/Krasnoyarsk:20171018T140000
DTEND;TZID=Asia/Krasnoyarsk:20171018T160000
DTSTAMP:20260422T025925
CREATED:20170821T050817Z
LAST-MODIFIED:20171002T033259Z
UID:1836-1508335200-1508342400@franchiseacademyindonesia.com
SUMMARY:Menyusun Konsep Perjanjian
DESCRIPTION:Topik kelas Off-line Red Module:                                                                                                        \nMembahas proses  MENAWARKAN PAKET BISNIS FRANCHISE  dengan topik \nMenyusun Konsep Perjanjian \n\n\nModul ini membahas hal hal penting yang perlu disisipkan dalam perjanjian franchise guna melindungi bisnis yang di franchisekan dan membuat franchisee paham \n\n\n  \nBiaya: Rp 350.000\,- untuk satu topik.
URL:https://franchiseacademyindonesia.com/event/menyusun-konsep-perjanjian-3/
LOCATION:Franchise Academy Indonesia\, Wisma Iskandarsyah Blok A.10\, Jl. Iskandarsyah Raya Kav. 12-14\, Jakarta \, Jakarta Selatan
CATEGORIES:Red Module
ORGANIZER;CN="Taufik Hidayat":MAILTO:programfranchiseacademy@gmail.com
END:VEVENT
BEGIN:VEVENT
DTSTART;TZID=Asia/Krasnoyarsk:20171018T100000
DTEND;TZID=Asia/Krasnoyarsk:20171018T120000
DTSTAMP:20260422T025925
CREATED:20171002T032726Z
LAST-MODIFIED:20171002T032726Z
UID:1856-1508320800-1508328000@franchiseacademyindonesia.com
SUMMARY:Melakukan Promosi Penawaran Franchise Yang Efektif
DESCRIPTION:Topik kelas Off-line Red Module:                                                                                                        \nMembahas proses  MENAWARKAN PAKET BISNIS FRANCHISE  dengan topik \nMelakukan Promosi Penawaran Franchise Yang Efektif \n\n\nModul ini merinci langkah langkah apa saja yang diperlukan guna mendapatkan franchisee yang diidamkan \n\n\n  \nBiaya: Rp 350.000\,- untuk satu topik.
URL:https://franchiseacademyindonesia.com/event/melakukan-promosi-penawaran-franchise-yang-efektif-3/
LOCATION:Franchise Academy Indonesia\, Wisma Iskandarsyah Blok A.10\, Jl. Iskandarsyah Raya Kav. 12-14\, Jakarta \, Jakarta Selatan
CATEGORIES:Red Module
ORGANIZER;CN="Taufik Hidayat":MAILTO:programfranchiseacademy@gmail.com
END:VEVENT
BEGIN:VEVENT
DTSTART;TZID=Asia/Krasnoyarsk:20170913T140000
DTEND;TZID=Asia/Krasnoyarsk:20170913T160000
DTSTAMP:20260422T025925
CREATED:20171002T032949Z
LAST-MODIFIED:20171002T034854Z
UID:1858-1505311200-1505318400@franchiseacademyindonesia.com
SUMMARY:Menyusun Konsep Perjanjian
DESCRIPTION:Topik kelas Off-line Red Module:                                                                                                        \nMembahas proses  MENAWARKAN PAKET BISNIS FRANCHISE  dengan topik \nMenyusun Konsep Perjanjian \n\n\nModul ini membahas hal hal penting yang perlu disisipkan dalam perjanjian franchise guna melindungi bisnis yang di franchisekan dan membuat franchisee paham \n\n\n  \nBiaya: Rp 350.000\,- untuk satu topik.
URL:https://franchiseacademyindonesia.com/event/menyusun-konsep-perjanjian-4/
LOCATION:Franchise Academy Indonesia\, Wisma Iskandarsyah Blok A.10\, Jl. Iskandarsyah Raya Kav. 12-14\, Jakarta \, Jakarta Selatan
CATEGORIES:Red Module
ORGANIZER;CN="Taufik Hidayat":MAILTO:programfranchiseacademy@gmail.com
END:VEVENT
BEGIN:VEVENT
DTSTART;TZID=Asia/Krasnoyarsk:20170913T100000
DTEND;TZID=Asia/Krasnoyarsk:20170913T120000
DTSTAMP:20260422T025925
CREATED:20170821T051148Z
LAST-MODIFIED:20170821T051148Z
UID:1838-1505296800-1505304000@franchiseacademyindonesia.com
SUMMARY:Melakukan Promosi Penawaran Franchise Yang Efektif
DESCRIPTION:Topik kelas Off-line Red Module:                                                                                                        \nMembahas proses  MENAWARKAN PAKET BISNIS FRANCHISE  dengan topik \nMelakukan Promosi Penawaran Franchise Yang Efektif \n\n\nModul ini merinci langkah langkah apa saja yang diperlukan guna mendapatkan franchisee yang diidamkan \n\n\n  \nBiaya: Rp 350.000\,- untuk satu topik.
URL:https://franchiseacademyindonesia.com/event/melakukan-promosi-penawaran-franchise-yang-efektif-4/
LOCATION:Franchise Academy Indonesia\, Wisma Iskandarsyah Blok A.10\, Jl. Iskandarsyah Raya Kav. 12-14\, Jakarta \, Jakarta Selatan
CATEGORIES:Red Module
ORGANIZER;CN="Taufik Hidayat":MAILTO:programfranchiseacademy@gmail.com
END:VEVENT
BEGIN:VEVENT
DTSTART;TZID=Asia/Krasnoyarsk:20170816T140000
DTEND;TZID=Asia/Krasnoyarsk:20170816T170000
DTSTAMP:20260422T025925
CREATED:20170724T031447Z
LAST-MODIFIED:20170724T031447Z
UID:1816-1502892000-1502902800@franchiseacademyindonesia.com
SUMMARY:Menyusun Konsep Perjanjian
DESCRIPTION:Topik kelas Off-line Red Module:                                                                                                        \nMembahas proses  MENAWARKAN PAKET BISNIS FRANCHISE  dengan topik \nMenyusun Konsep Perjanjian \n\n\nModul ini membahas hal hal penting yang perlu disisipkan dalam perjanjian franchise guna melindungi bisnis yang di franchisekan dan membuat franchisee paham \n\n\n  \nBiaya: Rp 350.000\,- untuk satu topik.
URL:https://franchiseacademyindonesia.com/event/menyusun-konsep-perjanjian-2/
LOCATION:Franchise Academy Indonesia\, Wisma Iskandarsyah Blok A.10\, Jl. Iskandarsyah Raya Kav. 12-14\, Jakarta \, Jakarta Selatan
CATEGORIES:Red Module
ORGANIZER;CN="Taufik Hidayat":MAILTO:programfranchiseacademy@gmail.com
END:VEVENT
BEGIN:VEVENT
DTSTART;TZID=Asia/Krasnoyarsk:20170816T100000
DTEND;TZID=Asia/Krasnoyarsk:20170816T120000
DTSTAMP:20260422T025925
CREATED:20170724T031258Z
LAST-MODIFIED:20170724T031258Z
UID:1811-1502877600-1502884800@franchiseacademyindonesia.com
SUMMARY:Melakukan Promosi Penawaran Franchise Yang Efektif
DESCRIPTION:Topik kelas Off-line Red Module:                                                                                                        \nMembahas proses  MENAWARKAN PAKET BISNIS FRANCHISE  dengan topik \nMelakukan Promosi Penawaran Franchise Yang Efektif \n\n\nModul ini merinci langkah langkah apa saja yang diperlukan guna mendapatkan franchisee yang diidamkan \n\n\n  \nBiaya: Rp 350.000\,- untuk satu topik.
URL:https://franchiseacademyindonesia.com/event/melakukan-promosi-penawaran-franchise-yang-efektif-2/
LOCATION:Franchise Academy Indonesia\, Wisma Iskandarsyah Blok A.10\, Jl. Iskandarsyah Raya Kav. 12-14\, Jakarta \, Jakarta Selatan
CATEGORIES:Red Module
ORGANIZER;CN="Taufik Hidayat":MAILTO:programfranchiseacademy@gmail.com
END:VEVENT
BEGIN:VEVENT
DTSTART;TZID=Asia/Krasnoyarsk:20170719T100000
DTEND;TZID=Asia/Krasnoyarsk:20170719T100000
DTSTAMP:20260422T025925
CREATED:20170702T214726Z
LAST-MODIFIED:20170702T214726Z
UID:1784-1500458400-1500458400@franchiseacademyindonesia.com
SUMMARY:Menyusun Konsep Perjanjian
DESCRIPTION:Topik kelas Off-line Red Module:                                                                                                        \nMembahas proses  MENAWARKAN PAKET BISNIS FRANCHISE  dengan topik \nMenyusun Konsep Perjanjian \n\n\nModul ini membahas hal hal penting yang perlu disisipkan dalam perjanjian franchise guna melindungi bisnis yang di franchisekan dan membuat franchisee paham \n\n\n  \nBiaya: Rp 350.000\,- untuk satu topik.
URL:https://franchiseacademyindonesia.com/event/menyusun-konsep-perjanjian/
LOCATION:Franchise Academy Indonesia\, Wisma Iskandarsyah Blok A.10\, Jl. Iskandarsyah Raya Kav. 12-14\, Jakarta \, Jakarta Selatan
CATEGORIES:Red Module
ORGANIZER;CN="Taufik Hidayat":MAILTO:programfranchiseacademy@gmail.com
END:VEVENT
BEGIN:VEVENT
DTSTART;TZID=Asia/Krasnoyarsk:20170719T100000
DTEND;TZID=Asia/Krasnoyarsk:20170719T100000
DTSTAMP:20260422T025925
CREATED:20170702T214601Z
LAST-MODIFIED:20170724T031153Z
UID:1782-1500458400-1500458400@franchiseacademyindonesia.com
SUMMARY:Melakukan Promosi Penawaran Franchise Yang Efektif
DESCRIPTION:Topik kelas Off-line Red Module:                                                                                                        \nMembahas proses  MENAWARKAN PAKET BISNIS FRANCHISE  dengan topik \nMelakukan Promosi Penawaran Franchise Yang Efektif \n\n\nModul ini merinci langkah langkah apa saja yang diperlukan guna mendapatkan franchisee yang diidamkan \n\n\n  \nBiaya: Rp 350.000\,- untuk satu topik.
URL:https://franchiseacademyindonesia.com/event/melakukan-promosi-penawaran-franchise-yang-efektif/
LOCATION:Franchise Academy Indonesia\, Wisma Iskandarsyah Blok A.10\, Jl. Iskandarsyah Raya Kav. 12-14\, Jakarta \, Jakarta Selatan
CATEGORIES:Red Module
ORGANIZER;CN="Taufik Hidayat":MAILTO:programfranchiseacademy@gmail.com
END:VEVENT
BEGIN:VEVENT
DTSTART;TZID=Asia/Krasnoyarsk:20170426T140000
DTEND;TZID=Asia/Krasnoyarsk:20170426T160000
DTSTAMP:20260422T025925
CREATED:20170413T042129Z
LAST-MODIFIED:20170421T035514Z
UID:1729-1493215200-1493222400@franchiseacademyindonesia.com
SUMMARY:Menyusun Konsep Perjanjian
DESCRIPTION:Topik kelas Off-line Red Module:                                                                                                        \nMembahas proses  MENAWARKAN PAKET BISNIS FRANCHISE  dengan topik \nMenyusun Konsep Perjanjian \n\n\nModul ini membahas hal hal penting yang perlu disisipkan dalam perjanjian franchise guna melindungi bisnis yang di franchisekan dan membuat franchisee paham \n\n\n  \nBiaya: Rp 350.000\,- untuk satu topik.
URL:https://franchiseacademyindonesia.com/event/1729/
LOCATION:Franchise Academy Indonesia\, Wisma Iskandarsyah Blok A.10\, Jl. Iskandarsyah Raya Kav. 12-14\, Jakarta \, Jakarta Selatan
CATEGORIES:Red Module
ORGANIZER;CN="Taufik Hidayat":MAILTO:programfranchiseacademy@gmail.com
END:VEVENT
END:VCALENDAR