BEGIN:VCALENDAR
VERSION:2.0
PRODID:-//Franchise Academy Indonesia - ECPv6.15.18//NONSGML v1.0//EN
CALSCALE:GREGORIAN
METHOD:PUBLISH
X-ORIGINAL-URL:https://franchiseacademyindonesia.com
X-WR-CALDESC:Events for Franchise Academy Indonesia
REFRESH-INTERVAL;VALUE=DURATION:PT1H
X-Robots-Tag:noindex
X-PUBLISHED-TTL:PT1H
BEGIN:VTIMEZONE
TZID:Asia/Krasnoyarsk
BEGIN:STANDARD
TZOFFSETFROM:+0700
TZOFFSETTO:+0700
TZNAME:+07
DTSTART:20160101T000000
END:STANDARD
END:VTIMEZONE
BEGIN:VEVENT
DTSTART;TZID=Asia/Krasnoyarsk:20191016T140000
DTEND;TZID=Asia/Krasnoyarsk:20191016T160000
DTSTAMP:20260422T000813
CREATED:20171116T040917Z
LAST-MODIFIED:20191001T093916Z
UID:1882-1571234400-1571241600@franchiseacademyindonesia.com
SUMMARY:Mastery Bisnis dalam Operasional & Administrasi
DESCRIPTION:Topik kelas Off-line Green Module (Business Mastery Process):                                                                                                        \nMastery Bisnis dalam Operasional & Administrasi;  \n\nTopik ini mempelajari bagaimana calon franchisor (pemberi waralaba) mempersiapkan diri menjadi pembimbing dalam hal kegiatan operasional usaha dan pengelolaan administrasi usaha.        \nPara franchisee (penerima waralaba) akan mengharapkan franchisornya membimbing\, mengajari mereka dalam menjalankan bisnisnya dengan sukses. Topik ini memberikan ide-ide bagaimana pengusaha melakukan proses Business Mastery.                                                                                                                   \n\n  \nBiaya: Rp 350.000\,- untuk satu topik.
URL:https://franchiseacademyindonesia.com/event/mastery-bisnis-dalam-operasional-administrasi-6/
LOCATION:Franchise Academy Indonesia\, Wisma Iskandarsyah Blok A.10\, Jl. Iskandarsyah Raya Kav. 12-14\, Jakarta \, Jakarta Selatan
CATEGORIES:Green Module
ORGANIZER;CN="Taufik Hidayat":MAILTO:programfranchiseacademy@gmail.com
END:VEVENT
BEGIN:VEVENT
DTSTART;VALUE=DATE:20191007
DTEND;VALUE=DATE:20191008
DTSTAMP:20260422T000813
CREATED:20170702T213317Z
LAST-MODIFIED:20191001T093402Z
UID:1772-1570406400-1570492799@franchiseacademyindonesia.com
SUMMARY:Langkah Praktis Mewaralabakan Usaha
DESCRIPTION:Topik kelas Off-line Green Module (Business Mastery Process):                                                                                                     \nLangkah Praktis Mewaralabakan Usaha;  \n\nTopik ini mempelajari dasar-dasar franchising (waralaba) dan alternatif kemitraan lainnya\, seperti Licensing\, Joint Venture\, kerjasama tempat.\nTopik ini juga mempelajari hal-hal yang perlu diwaspadai dalam menjalankan bisnis franchise. Sebaliknya\, bagaimana franchising dapat meningkatkan keuntungan usaha secara luar biasa.\n\n  \nBiaya: Rp 350.000\,- untuk satu topik.
URL:https://franchiseacademyindonesia.com/event/langkah-praktis-mewaralabakan-usaha/
LOCATION:Franchise Academy Indonesia\, Wisma Iskandarsyah Blok A.10\, Jl. Iskandarsyah Raya Kav. 12-14\, Jakarta \, Jakarta Selatan
CATEGORIES:Green Module
ORGANIZER;CN="Taufik Hidayat":MAILTO:programfranchiseacademy@gmail.com
END:VEVENT
BEGIN:VEVENT
DTSTART;TZID=Asia/Krasnoyarsk:20181210T140000
DTEND;TZID=Asia/Krasnoyarsk:20181210T160000
DTSTAMP:20260422T000814
CREATED:20170327T091206Z
LAST-MODIFIED:20181129T105654Z
UID:1661-1544450400-1544457600@franchiseacademyindonesia.com
SUMMARY:Mastery Bisnis dalam Operasional & Administrasi
DESCRIPTION:Topik kelas Off-line Green Module (Business Mastery Process):                                                                                                        \nMastery Bisnis dalam Operasional & Administrasi;  \n\n\n\nTopik ini mempelajari bagaimana calon franchisor (pemberi waralaba) mempersiapkan diri menjadi pembimbing dalam hal kegiatan operasional usaha dan pengelolaan administrasi usaha.        \n\n\n\n\n\n\nPara franchisee (penerima waralaba) akan mengharapkan franchisornya membimbing\, mengajari mereka dalam menjalankan bisnisnya dengan sukses. Topik ini memberikan ide-ide bagaimana pengusaha melakukan proses Business Mastery.                                                                                                                   \n\n\n\n  \nBiaya: Rp 350.000\,- untuk satu topik.
URL:https://franchiseacademyindonesia.com/event/green-modul-2/
LOCATION:Franchise Academy Indonesia\, Wisma Iskandarsyah Blok A.10\, Jl. Iskandarsyah Raya Kav. 12-14\, Jakarta \, Jakarta Selatan
CATEGORIES:Green Module
END:VEVENT
BEGIN:VEVENT
DTSTART;TZID=Asia/Krasnoyarsk:20181203T100000
DTEND;TZID=Asia/Krasnoyarsk:20181203T113000
DTSTAMP:20260422T000814
CREATED:20170327T082422Z
LAST-MODIFIED:20181129T113507Z
UID:1657-1543831200-1543836600@franchiseacademyindonesia.com
SUMMARY:Langkah Praktis Mewaralabakan Usaha
DESCRIPTION:Topik kelas Off-line Green Module (Business Mastery Process):                                                                                                     \nLangkah Praktis Mewaralabakan Usaha;  \n\nTopik ini mempelajari dasar-dasar franchising (waralaba) dan alternatif kemitraan lainnya\, seperti Licensing\, Joint Venture\, kerjasama tempat. \nTopik ini juga mempelajari hal-hal yang perlu diwaspadai dalam menjalankan bisnis franchise. Sebaliknya\, bagaimana franchising dapat meningkatkan keuntungan usaha secara luar biasa.\n\n  \nBiaya: Rp 350.000\,- untuk satu topik.
URL:https://franchiseacademyindonesia.com/event/green-modul/
LOCATION:Franchise Academy Indonesia\, Wisma Iskandarsyah Blok A.10\, Jl. Iskandarsyah Raya Kav. 12-14\, Jakarta \, Jakarta Selatan
CATEGORIES:Green Module
END:VEVENT
BEGIN:VEVENT
DTSTART;TZID=Asia/Krasnoyarsk:20171204T100000
DTEND;TZID=Asia/Krasnoyarsk:20171204T120000
DTSTAMP:20260422T000814
CREATED:20171116T040643Z
LAST-MODIFIED:20171116T040643Z
UID:1880-1512381600-1512388800@franchiseacademyindonesia.com
SUMMARY:Langkah Praktis Mewaralabakan Usaha
DESCRIPTION:Topik kelas Off-line Green Module (Business Mastery Process):                                                                                                     \nLangkah Praktis Mewaralabakan Usaha;  \n\nTopik ini mempelajari dasar-dasar franchising (waralaba) dan alternatif kemitraan lainnya\, seperti Licensing\, Joint Venture\, kerjasama tempat.\nTopik ini juga mempelajari hal-hal yang perlu diwaspadai dalam menjalankan bisnis franchise. Sebaliknya\, bagaimana franchising dapat meningkatkan keuntungan usaha secara luar biasa.\n\n  \nBiaya: Rp 350.000\,- untuk satu topik.
URL:https://franchiseacademyindonesia.com/event/langkah-praktis-mewaralabakan-usaha-6/
LOCATION:Franchise Academy Indonesia\, Wisma Iskandarsyah Blok A.10\, Jl. Iskandarsyah Raya Kav. 12-14\, Jakarta \, Jakarta Selatan
CATEGORIES:Green Module
ORGANIZER;CN="Taufik Hidayat":MAILTO:programfranchiseacademy@gmail.com
END:VEVENT
BEGIN:VEVENT
DTSTART;TZID=Asia/Krasnoyarsk:20171106T100000
DTEND;TZID=Asia/Krasnoyarsk:20171106T100000
DTSTAMP:20260422T000814
CREATED:20171116T035046Z
LAST-MODIFIED:20171116T035046Z
UID:1864-1509962400-1509962400@franchiseacademyindonesia.com
SUMMARY:Langkah Praktis Mewaralabakan Usaha
DESCRIPTION:Topik kelas Off-line Green Module (Business Mastery Process):                                                                                                     \nLangkah Praktis Mewaralabakan Usaha;  \n\nTopik ini mempelajari dasar-dasar franchising (waralaba) dan alternatif kemitraan lainnya\, seperti Licensing\, Joint Venture\, kerjasama tempat.\nTopik ini juga mempelajari hal-hal yang perlu diwaspadai dalam menjalankan bisnis franchise. Sebaliknya\, bagaimana franchising dapat meningkatkan keuntungan usaha secara luar biasa.\n\n  \nBiaya: Rp 350.000\,- untuk satu topik.
URL:https://franchiseacademyindonesia.com/event/langkah-praktis-mewaralabakan-usaha-5/
LOCATION:Franchise Academy Indonesia\, Wisma Iskandarsyah Blok A.10\, Jl. Iskandarsyah Raya Kav. 12-14\, Jakarta \, Jakarta Selatan
CATEGORIES:Green Module
ORGANIZER;CN="Taufik Hidayat":MAILTO:programfranchiseacademy@gmail.com
END:VEVENT
BEGIN:VEVENT
DTSTART;TZID=Asia/Krasnoyarsk:20171009T140000
DTEND;TZID=Asia/Krasnoyarsk:20171009T160000
DTSTAMP:20260422T000814
CREATED:20171002T031757Z
LAST-MODIFIED:20171002T031757Z
UID:1847-1507557600-1507564800@franchiseacademyindonesia.com
SUMMARY:Mastery Bisnis dalam Operasional & Administrasi
DESCRIPTION:Topik kelas Off-line Green Module (Business Mastery Process):                                                                                                        \nMastery Bisnis dalam Operasional & Administrasi;  \n\n\n\nTopik ini mempelajari bagaimana calon franchisor (pemberi waralaba) mempersiapkan diri menjadi pembimbing dalam hal kegiatan operasional usaha dan pengelolaan administrasi usaha.        \n\n\n\n\n\n\nPara franchisee (penerima waralaba) akan mengharapkan franchisornya membimbing\, mengajari mereka dalam menjalankan bisnisnya dengan sukses. Topik ini memberikan ide-ide bagaimana pengusaha melakukan proses Business Mastery.                                                                                                                   \n\n\n\n  \nBiaya: Rp 350.000\,- untuk satu topik.
URL:https://franchiseacademyindonesia.com/event/mastery-bisnis-dalam-operasional-administrasi-4/
LOCATION:Franchise Academy Indonesia\, Wisma Iskandarsyah Blok A.10\, Jl. Iskandarsyah Raya Kav. 12-14\, Jakarta \, Jakarta Selatan
CATEGORIES:Green Module
ORGANIZER;CN="Taufik Hidayat":MAILTO:programfranchiseacademy@gmail.com
END:VEVENT
BEGIN:VEVENT
DTSTART;TZID=Asia/Krasnoyarsk:20171009T100000
DTEND;TZID=Asia/Krasnoyarsk:20171009T120000
DTSTAMP:20260422T000814
CREATED:20171002T031515Z
LAST-MODIFIED:20171002T031515Z
UID:1843-1507543200-1507550400@franchiseacademyindonesia.com
SUMMARY:Langkah Praktis Mewaralabakan Usaha
DESCRIPTION:Topik kelas Off-line Green Module (Business Mastery Process):                                                                                                     \nLangkah Praktis Mewaralabakan Usaha;  \n\nTopik ini mempelajari dasar-dasar franchising (waralaba) dan alternatif kemitraan lainnya\, seperti Licensing\, Joint Venture\, kerjasama tempat.\nTopik ini juga mempelajari hal-hal yang perlu diwaspadai dalam menjalankan bisnis franchise. Sebaliknya\, bagaimana franchising dapat meningkatkan keuntungan usaha secara luar biasa.\n\n  \nBiaya: Rp 350.000\,- untuk satu topik.
URL:https://franchiseacademyindonesia.com/event/langkah-praktis-mewaralabakan-usaha-4/
LOCATION:Franchise Academy Indonesia\, Wisma Iskandarsyah Blok A.10\, Jl. Iskandarsyah Raya Kav. 12-14\, Jakarta \, Jakarta Selatan
CATEGORIES:Green Module
ORGANIZER;CN="Taufik Hidayat":MAILTO:programfranchiseacademy@gmail.com
END:VEVENT
BEGIN:VEVENT
DTSTART;TZID=Asia/Krasnoyarsk:20170904T140000
DTEND;TZID=Asia/Krasnoyarsk:20170904T160000
DTSTAMP:20260422T000814
CREATED:20170821T045548Z
LAST-MODIFIED:20170821T045548Z
UID:1826-1504533600-1504540800@franchiseacademyindonesia.com
SUMMARY:Mastery Bisnis dalam Operasional & Administrasi
DESCRIPTION:Topik kelas Off-line Green Module (Business Mastery Process):                                                                                                        \nMastery Bisnis dalam Operasional & Administrasi;  \n\n\n\nTopik ini mempelajari bagaimana calon franchisor (pemberi waralaba) mempersiapkan diri menjadi pembimbing dalam hal kegiatan operasional usaha dan pengelolaan administrasi usaha.        \n\n\n\n\n\n\nPara franchisee (penerima waralaba) akan mengharapkan franchisornya membimbing\, mengajari mereka dalam menjalankan bisnisnya dengan sukses. Topik ini memberikan ide-ide bagaimana pengusaha melakukan proses Business Mastery.                                                                                                                   \n\n\n\n  \nBiaya: Rp 350.000\,- untuk satu topik.
URL:https://franchiseacademyindonesia.com/event/mastery-bisnis-dalam-operasional-administrasi-3/
LOCATION:Franchise Academy Indonesia\, Wisma Iskandarsyah Blok A.10\, Jl. Iskandarsyah Raya Kav. 12-14\, Jakarta \, Jakarta Selatan
CATEGORIES:Green Module
ORGANIZER;CN="Taufik Hidayat":MAILTO:programfranchiseacademy@gmail.com
END:VEVENT
BEGIN:VEVENT
DTSTART;TZID=Asia/Krasnoyarsk:20170904T100000
DTEND;TZID=Asia/Krasnoyarsk:20170904T100000
DTSTAMP:20260422T000814
CREATED:20170821T045400Z
LAST-MODIFIED:20170821T045400Z
UID:1824-1504519200-1504519200@franchiseacademyindonesia.com
SUMMARY:Langkah Praktis Mewaralabakan Usaha
DESCRIPTION:Topik kelas Off-line Green Module (Business Mastery Process):                                                                                                     \nLangkah Praktis Mewaralabakan Usaha;  \n\nTopik ini mempelajari dasar-dasar franchising (waralaba) dan alternatif kemitraan lainnya\, seperti Licensing\, Joint Venture\, kerjasama tempat.\nTopik ini juga mempelajari hal-hal yang perlu diwaspadai dalam menjalankan bisnis franchise. Sebaliknya\, bagaimana franchising dapat meningkatkan keuntungan usaha secara luar biasa.\n\n  \nBiaya: Rp 350.000\,- untuk satu topik.
URL:https://franchiseacademyindonesia.com/event/langkah-praktis-mewaralabakan-usaha-3/
LOCATION:Franchise Academy Indonesia\, Wisma Iskandarsyah Blok A.10\, Jl. Iskandarsyah Raya Kav. 12-14\, Jakarta \, Jakarta Selatan
CATEGORIES:Green Module
ORGANIZER;CN="Taufik Hidayat":MAILTO:programfranchiseacademy@gmail.com
END:VEVENT
BEGIN:VEVENT
DTSTART;TZID=Asia/Krasnoyarsk:20170807T140000
DTEND;TZID=Asia/Krasnoyarsk:20170807T160000
DTSTAMP:20260422T000814
CREATED:20170703T093157Z
LAST-MODIFIED:20170703T093157Z
UID:1794-1502114400-1502121600@franchiseacademyindonesia.com
SUMMARY:Mastery Bisnis dalam Operasional & Administrasi
DESCRIPTION:Topik kelas Off-line Green Module (Business Mastery Process):                                                                                                        \nMastery Bisnis dalam Operasional & Administrasi;  \n\n\n\nTopik ini mempelajari bagaimana calon franchisor (pemberi waralaba) mempersiapkan diri menjadi pembimbing dalam hal kegiatan operasional usaha dan pengelolaan administrasi usaha.        \n\n\n\n\n\n\nPara franchisee (penerima waralaba) akan mengharapkan franchisornya membimbing\, mengajari mereka dalam menjalankan bisnisnya dengan sukses. Topik ini memberikan ide-ide bagaimana pengusaha melakukan proses Business Mastery.                                                                                                                   \n\n\n\n  \nBiaya: Rp 350.000\,- untuk satu topik.
URL:https://franchiseacademyindonesia.com/event/mastery-bisnis-dalam-operasional-administrasi-2/
LOCATION:Franchise Academy Indonesia\, Wisma Iskandarsyah Blok A.10\, Jl. Iskandarsyah Raya Kav. 12-14\, Jakarta \, Jakarta Selatan
CATEGORIES:Green Module
ORGANIZER;CN="Taufik Hidayat":MAILTO:programfranchiseacademy@gmail.com
END:VEVENT
BEGIN:VEVENT
DTSTART;TZID=Asia/Krasnoyarsk:20170807T100000
DTEND;TZID=Asia/Krasnoyarsk:20170807T100000
DTSTAMP:20260422T000814
CREATED:20170703T092939Z
LAST-MODIFIED:20170703T092939Z
UID:1792-1502100000-1502100000@franchiseacademyindonesia.com
SUMMARY:Langkah Praktis Mewaralabakan Usaha
DESCRIPTION:Topik kelas Off-line Green Module (Business Mastery Process):                                                                                                     \nLangkah Praktis Mewaralabakan Usaha;  \n\nTopik ini mempelajari dasar-dasar franchising (waralaba) dan alternatif kemitraan lainnya\, seperti Licensing\, Joint Venture\, kerjasama tempat.\nTopik ini juga mempelajari hal-hal yang perlu diwaspadai dalam menjalankan bisnis franchise. Sebaliknya\, bagaimana franchising dapat meningkatkan keuntungan usaha secara luar biasa.\n\n  \nBiaya: Rp 350.000\,- untuk satu topik.
URL:https://franchiseacademyindonesia.com/event/langkah-praktis-mewaralabakan-usaha-2/
LOCATION:Franchise Academy Indonesia\, Wisma Iskandarsyah Blok A.10\, Jl. Iskandarsyah Raya Kav. 12-14\, Jakarta \, Jakarta Selatan
CATEGORIES:Green Module
ORGANIZER;CN="Taufik Hidayat":MAILTO:programfranchiseacademy@gmail.com
END:VEVENT
BEGIN:VEVENT
DTSTART;TZID=Asia/Krasnoyarsk:20170710T140000
DTEND;TZID=Asia/Krasnoyarsk:20170710T160000
DTSTAMP:20260422T000814
CREATED:20170702T213558Z
LAST-MODIFIED:20170703T092538Z
UID:1774-1499695200-1499702400@franchiseacademyindonesia.com
SUMMARY:Mastery Bisnis dalam Operasional & Administrasi
DESCRIPTION:Topik kelas Off-line Green Module (Business Mastery Process):                                                                                                        \nMastery Bisnis dalam Operasional & Administrasi;  \n\n\n\nTopik ini mempelajari bagaimana calon franchisor (pemberi waralaba) mempersiapkan diri menjadi pembimbing dalam hal kegiatan operasional usaha dan pengelolaan administrasi usaha.        \n\n\n\n\n\n\nPara franchisee (penerima waralaba) akan mengharapkan franchisornya membimbing\, mengajari mereka dalam menjalankan bisnisnya dengan sukses. Topik ini memberikan ide-ide bagaimana pengusaha melakukan proses Business Mastery.                                                                                                                   \n\n\n\n  \nBiaya: Rp 350.000\,- untuk satu topik.
URL:https://franchiseacademyindonesia.com/event/mastery-bisnis-dalam-operasional-administrasi/
LOCATION:Franchise Academy Indonesia\, Wisma Iskandarsyah Blok A.10\, Jl. Iskandarsyah Raya Kav. 12-14\, Jakarta \, Jakarta Selatan
CATEGORIES:Green Module
ORGANIZER;CN="Taufik Hidayat":MAILTO:programfranchiseacademy@gmail.com
END:VEVENT
END:VCALENDAR