BEGIN:VCALENDAR
VERSION:2.0
PRODID:-//Franchise Academy Indonesia - ECPv6.15.18//NONSGML v1.0//EN
CALSCALE:GREGORIAN
METHOD:PUBLISH
X-WR-CALNAME:Franchise Academy Indonesia
X-ORIGINAL-URL:https://franchiseacademyindonesia.com
X-WR-CALDESC:Events for Franchise Academy Indonesia
REFRESH-INTERVAL;VALUE=DURATION:PT1H
X-Robots-Tag:noindex
X-PUBLISHED-TTL:PT1H
BEGIN:VTIMEZONE
TZID:Asia/Krasnoyarsk
BEGIN:STANDARD
TZOFFSETFROM:+0700
TZOFFSETTO:+0700
TZNAME:+07
DTSTART:20160101T000000
END:STANDARD
END:VTIMEZONE
BEGIN:VEVENT
DTSTART;TZID=Asia/Krasnoyarsk:20191028T100000
DTEND;TZID=Asia/Krasnoyarsk:20191028T120000
DTSTAMP:20260421T223003
CREATED:20170724T031733Z
LAST-MODIFIED:20191001T094727Z
UID:1818-1572256800-1572264000@franchiseacademyindonesia.com
SUMMARY:Organisasi Franchisor
DESCRIPTION:Topik kelas Off-line Golden Module:                                                                                                        \nMembahas proses  pembentukan Organisasi Franchisor\, dengan topik : \nPengelolaan Franchise \n\nModul ini memjabarkan hal apa saja yang diperlukan franchisor agar dapat menjalankan bisnis franchise secara menyeluruh\n\n  \nBiaya: Rp 350.000\,- untuk satu topik.
URL:https://franchiseacademyindonesia.com/event/organisasi-franchisor-2/
LOCATION:Franchise Academy Indonesia\, Wisma Iskandarsyah Blok A.10\, Jl. Iskandarsyah Raya Kav. 12-14\, Jakarta \, Jakarta Selatan
CATEGORIES:Golden Module
ORGANIZER;CN="Taufik Hidayat":MAILTO:programfranchiseacademy@gmail.com
END:VEVENT
BEGIN:VEVENT
DTSTART;TZID=Asia/Krasnoyarsk:20190520T140000
DTEND;TZID=Asia/Krasnoyarsk:20190520T160000
DTSTAMP:20260421T223003
CREATED:20171116T040321Z
LAST-MODIFIED:20190502T050853Z
UID:1878-1558360800-1558368000@franchiseacademyindonesia.com
SUMMARY:Pengelolaan Franchise
DESCRIPTION:Topik kelas Off-line Golden Module:                                                                                                        \nMembahas proses  PENGELOLAAN BISNIS FRANCHISE\, dengan topik : \nPengelolaan Franchise \n\nModul ini membahas jenis jenis program yang perlu dijalankan oleh franchisor agar dapat terus membina hubungan baik dengan franchisee\n\n  \nBiaya: Rp 350.000\,- untuk satu topik.
URL:https://franchiseacademyindonesia.com/event/pengelolaan-franchise-6/
LOCATION:Franchise Academy Indonesia\, Wisma Iskandarsyah Blok A.10\, Jl. Iskandarsyah Raya Kav. 12-14\, Jakarta \, Jakarta Selatan
CATEGORIES:Golden Module
ORGANIZER;CN="Taufik Hidayat":MAILTO:programfranchiseacademy@gmail.com
END:VEVENT
BEGIN:VEVENT
DTSTART;TZID=Asia/Krasnoyarsk:20190429T140000
DTEND;TZID=Asia/Krasnoyarsk:20190429T160000
DTSTAMP:20260421T223003
CREATED:20171116T042145Z
LAST-MODIFIED:20190418T040932Z
UID:1896-1556546400-1556553600@franchiseacademyindonesia.com
SUMMARY:Pengelolaan Franchise
DESCRIPTION:Topik kelas Off-line Golden Module:                                                                                                        \nMembahas proses  PENGELOLAAN BISNIS FRANCHISE\, dengan topik : \nPengelolaan Franchise \n\nModul ini membahas jenis jenis program yang perlu dijalankan oleh franchisor agar dapat terus membina hubungan baik dengan franchisee\n\n  \nBiaya: Rp 350.000\,- untuk satu topik.
URL:https://franchiseacademyindonesia.com/event/pengelolaan-franchise-7/
LOCATION:Franchise Academy Indonesia\, Wisma Iskandarsyah Blok A.10\, Jl. Iskandarsyah Raya Kav. 12-14\, Jakarta \, Jakarta Selatan
CATEGORIES:Golden Module
ORGANIZER;CN="Taufik Hidayat":MAILTO:programfranchiseacademy@gmail.com
END:VEVENT
BEGIN:VEVENT
DTSTART;TZID=Asia/Krasnoyarsk:20171023T140000
DTEND;TZID=Asia/Krasnoyarsk:20171023T160000
DTSTAMP:20260421T223003
CREATED:20171002T033149Z
LAST-MODIFIED:20171002T033149Z
UID:1860-1508767200-1508774400@franchiseacademyindonesia.com
SUMMARY:Pengelolaan Franchise
DESCRIPTION:Topik kelas Off-line Golden Module:                                                                                                        \nMembahas proses  PENGELOLAAN BISNIS FRANCHISE\, dengan topik : \nPengelolaan Franchise \n\nModul ini membahas jenis jenis program yang perlu dijalankan oleh franchisor agar dapat terus membina hubungan baik dengan franchisee\n\n  \nBiaya: Rp 350.000\,- untuk satu topik.
URL:https://franchiseacademyindonesia.com/event/pengelolaan-franchise-5/
LOCATION:Franchise Academy Indonesia\, Wisma Iskandarsyah Blok A.10\, Jl. Iskandarsyah Raya Kav. 12-14\, Jakarta \, Jakarta Selatan
CATEGORIES:Golden Module
ORGANIZER;CN="Taufik Hidayat":MAILTO:programfranchiseacademy@gmail.com
END:VEVENT
BEGIN:VEVENT
DTSTART;TZID=Asia/Krasnoyarsk:20170918T140000
DTEND;TZID=Asia/Krasnoyarsk:20170918T160000
DTSTAMP:20260421T223003
CREATED:20170821T051502Z
LAST-MODIFIED:20170821T051502Z
UID:1840-1505743200-1505750400@franchiseacademyindonesia.com
SUMMARY:Pengelolaan Franchise
DESCRIPTION:Topik kelas Off-line Golden Module:                                                                                                        \nMembahas proses  PENGELOLAAN BISNIS FRANCHISE\, dengan topik : \nPengelolaan Franchise \n\nModul ini membahas jenis jenis program yang perlu dijalankan oleh franchisor agar dapat terus membina hubungan baik dengan franchisee\n\n  \nBiaya: Rp 350.000\,- untuk satu topik.
URL:https://franchiseacademyindonesia.com/event/pengelolaan-franchise-4/
LOCATION:Franchise Academy Indonesia\, Wisma Iskandarsyah Blok A.10\, Jl. Iskandarsyah Raya Kav. 12-14\, Jakarta \, Jakarta Selatan
CATEGORIES:Golden Module
ORGANIZER;CN="Taufik Hidayat":MAILTO:programfranchiseacademy@gmail.com
END:VEVENT
BEGIN:VEVENT
DTSTART;TZID=Asia/Krasnoyarsk:20170821T140000
DTEND;TZID=Asia/Krasnoyarsk:20170821T170000
DTSTAMP:20260421T223003
CREATED:20170724T031907Z
LAST-MODIFIED:20170724T031907Z
UID:1820-1503324000-1503334800@franchiseacademyindonesia.com
SUMMARY:Pengelolaan Franchise
DESCRIPTION:Topik kelas Off-line Golden Module:                                                                                                        \nMembahas proses  PENGELOLAAN BISNIS FRANCHISE\, dengan topik : \nPengelolaan Franchise \n\nModul ini membahas jenis jenis program yang perlu dijalankan oleh franchisor agar dapat terus membina hubungan baik dengan franchisee\n\n  \nBiaya: Rp 350.000\,- untuk satu topik.
URL:https://franchiseacademyindonesia.com/event/pengelolaan-franchise-3/
LOCATION:Franchise Academy Indonesia\, Wisma Iskandarsyah Blok A.10\, Jl. Iskandarsyah Raya Kav. 12-14\, Jakarta \, Jakarta Selatan
CATEGORIES:Golden Module
ORGANIZER;CN="Taufik Hidayat":MAILTO:programfranchiseacademy@gmail.com
END:VEVENT
BEGIN:VEVENT
DTSTART;TZID=Asia/Krasnoyarsk:20170724T140000
DTEND;TZID=Asia/Krasnoyarsk:20170724T160000
DTSTAMP:20260421T223003
CREATED:20170702T215042Z
LAST-MODIFIED:20170702T215042Z
UID:1786-1500904800-1500912000@franchiseacademyindonesia.com
SUMMARY:Pengelolaan Franchise
DESCRIPTION:Topik kelas Off-line Golden Module:                                                                                                        \nMembahas proses  PENGELOLAAN BISNIS FRANCHISE\, dengan topik : \nPengelolaan Franchise \n\nModul ini membahas jenis jenis program yang perlu dijalankan oleh franchisor agar dapat terus membina hubungan baik dengan franchisee\n\n  \nBiaya: Rp 350.000\,- untuk satu topik.
URL:https://franchiseacademyindonesia.com/event/pengelolaan-franchise-2/
LOCATION:Franchise Academy Indonesia\, Wisma Iskandarsyah Blok A.10\, Jl. Iskandarsyah Raya Kav. 12-14\, Jakarta \, Jakarta Selatan
CATEGORIES:Golden Module
ORGANIZER;CN="Taufik Hidayat":MAILTO:programfranchiseacademy@gmail.com
END:VEVENT
BEGIN:VEVENT
DTSTART;TZID=Asia/Krasnoyarsk:20170724T100000
DTEND;TZID=Asia/Krasnoyarsk:20170724T100000
DTSTAMP:20260421T223003
CREATED:20170702T215432Z
LAST-MODIFIED:20170702T215432Z
UID:1788-1500890400-1500890400@franchiseacademyindonesia.com
SUMMARY:Organisasi Franchisor
DESCRIPTION:Topik kelas Off-line Golden Module:                                                                                                        \nMembahas proses  pembentukan Organisasi Franchisor\, dengan topik : \nPengelolaan Franchise \n\nModul ini memjabarkan hal apa saja yang diperlukan franchisor agar dapat menjalankan bisnis franchise secara menyeluruh\n\n  \nBiaya: Rp 350.000\,- untuk satu topik.
URL:https://franchiseacademyindonesia.com/event/organisasi-franchisor/
LOCATION:Franchise Academy Indonesia\, Wisma Iskandarsyah Blok A.10\, Jl. Iskandarsyah Raya Kav. 12-14\, Jakarta \, Jakarta Selatan
CATEGORIES:Golden Module
ORGANIZER;CN="Taufik Hidayat":MAILTO:programfranchiseacademy@gmail.com
END:VEVENT
BEGIN:VEVENT
DTSTART;TZID=Asia/Krasnoyarsk:20170417T140000
DTEND;TZID=Asia/Krasnoyarsk:20170417T160000
DTSTAMP:20260421T223003
CREATED:20170413T041655Z
LAST-MODIFIED:20170413T052511Z
UID:1725-1492437600-1492444800@franchiseacademyindonesia.com
SUMMARY:Pengelolaan Franchise
DESCRIPTION:Topik kelas Off-line Golden Module:                                                                                                        \nMembahas proses  PENGELOLAAN BISNIS FRANCHISE\, dengan topik : \nPengelolaan Franchise \n\nModul ini membahas jenis jenis program yang perlu dijalankan oleh franchisor agar dapat terus membina hubungan baik dengan franchisee\n\n  \nBiaya: Rp 350.000\,- untuk satu topik.
URL:https://franchiseacademyindonesia.com/event/pengelolaan-franchise/
LOCATION:Franchise Academy Indonesia\, Wisma Iskandarsyah Blok A.10\, Jl. Iskandarsyah Raya Kav. 12-14\, Jakarta \, Jakarta Selatan
CATEGORIES:Golden Module
ORGANIZER;CN="Taufik Hidayat":MAILTO:programfranchiseacademy@gmail.com
END:VEVENT
END:VCALENDAR